BEGIN:VCALENDAR
VERSION:2.0
PRODID:-//eventon.com NONSGML v1.0//EN
CALSCALE:GREGORIAN
METHOD:PUBLISH
BEGIN:VEVENT
UID:69e8dcd4e7786
DTSTAMP:20260422T143604Z
DTSTART:20260425T083000Z
DTEND:20260426T161500Z
LOCATION:YDSC Grimwith Reservoir
SUMMARY:RYA Dinghy Sailing Level 1 Course
DESCRIPTION:RYA Dinghy Sailing Level 1 Course\nhttps://yorkshiredales.sc/ev
 ents/rya-dinghy-sailing-level-1-course-6/
URL:https://yorkshiredales.sc/events/rya-dinghy-sailing-level-1-course-6/
END:VEVENT
END:VCALENDAR