BEGIN:VCALENDAR
VERSION:2.0
PRODID:-//eventon.com NONSGML v1.0//EN
CALSCALE:GREGORIAN
METHOD:PUBLISH
BEGIN:VEVENT
UID:69e8dd1f92a13
DTSTAMP:20260422T143719Z
DTSTART:20260704T083000Z
DTEND:20260705T161500Z
LOCATION:YDSC Grimwith Reservoir
SUMMARY:RYA Dinghy Sailing Level 1 Course
DESCRIPTION:RYA Dinghy Sailing Level 1 Course\nhttps://yorkshiredales.sc/ev
 ents/rya-dinghy-sailing-level-1-course-9/
URL:https://yorkshiredales.sc/events/rya-dinghy-sailing-level-1-course-9/
END:VEVENT
END:VCALENDAR