BEGIN:VCALENDAR
VERSION:2.0
PRODID:-//eventon.com NONSGML v1.0//EN
CALSCALE:GREGORIAN
METHOD:PUBLISH
BEGIN:VEVENT
UID:69e8dd1879b6a
DTSTAMP:20260422T143712Z
DTSTART:20260912T083000Z
DTEND:20260913T161500Z
LOCATION:YDSC Grimwith Reservoir
SUMMARY:RYA Dinghy Sailing Level 1 Course
DESCRIPTION:RYA Dinghy Sailing Level 1 Course\nhttps://yorkshiredales.sc/ev
 ents/rya-dinghy-sailing-level-1-course-10/
URL:https://yorkshiredales.sc/events/rya-dinghy-sailing-level-1-course-10/
END:VEVENT
END:VCALENDAR