BEGIN:VCALENDAR
VERSION:2.0
PRODID:-//eventon.com NONSGML v1.0//EN
CALSCALE:GREGORIAN
METHOD:PUBLISH
BEGIN:VEVENT
UID:69e8dd6e2ec72
DTSTAMP:20260422T143838Z
DTSTART:20260718T083000Z
DTEND:20260719T161500Z
LOCATION:YDSC Grimwith Reservoir
SUMMARY:RYA Dinghy Sailing Level 2 Course
DESCRIPTION:RYA Dinghy Sailing Level 2 Course\nhttps://yorkshiredales.sc/ev
 ents/rya-dinghy-sailing-level-2-course-8/
URL:https://yorkshiredales.sc/events/rya-dinghy-sailing-level-2-course-8/
END:VEVENT
END:VCALENDAR