BEGIN:VCALENDAR
VERSION:2.0
PRODID:-//eventon.com NONSGML v1.0//EN
CALSCALE:GREGORIAN
METHOD:PUBLISH
BEGIN:VEVENT
UID:69e8dcd5794e4
DTSTAMP:20260422T143605Z
DTSTART:20260815T083000Z
DTEND:20260816T161500Z
LOCATION:YDSC Grimwith Reservoir
SUMMARY:RYA Dinghy Sailing Level 3 Course
DESCRIPTION:RYA Dinghy Sailing Level 3 Course\nhttps://yorkshiredales.sc/ev
 ents/rya-dinghy-sailing-level-3-course-2/
URL:https://yorkshiredales.sc/events/rya-dinghy-sailing-level-3-course-2/
END:VEVENT
END:VCALENDAR