BEGIN:VCALENDAR
VERSION:2.0
PRODID:-//eventon.com NONSGML v1.0//EN
CALSCALE:GREGORIAN
METHOD:PUBLISH
BEGIN:VEVENT
UID:69e8dd17ba01e
DTSTAMP:20260422T143711Z
DTSTART:20260617T083000Z
DTEND:20260618T161500Z
LOCATION:YDSC Grimwith Reservoir
SUMMARY:RYA Powerboat Level 2 Course
DESCRIPTION:RYA Powerboat Level 2 Course\nhttps://yorkshiredales.sc/events/
 rya-powerboat-level-2-course-30/
URL:https://yorkshiredales.sc/events/rya-powerboat-level-2-course-30/
END:VEVENT
END:VCALENDAR