BEGIN:VCALENDAR
VERSION:2.0
PRODID:-//eventon.com NONSGML v1.0//EN
CALSCALE:GREGORIAN
METHOD:PUBLISH
BEGIN:VEVENT
UID:69e8dd17322de
DTSTAMP:20260422T143711Z
DTSTART:20260801T083000Z
DTEND:20260802T161500Z
LOCATION:YDSC Grimwith Reservoir
SUMMARY:RYA Powerboat Level 2 Course
DESCRIPTION:RYA Powerboat Level 2 Course\nhttps://yorkshiredales.sc/events/
 rya-powerboat-level-2-course-31/
URL:https://yorkshiredales.sc/events/rya-powerboat-level-2-course-31/
END:VEVENT
END:VCALENDAR