BEGIN:VCALENDAR
VERSION:2.0
PRODID:-//eventon.com NONSGML v1.0//EN
CALSCALE:GREGORIAN
METHOD:PUBLISH
BEGIN:VEVENT
UID:69e8dcd6d1c3e
DTSTAMP:20260422T143606Z
DTSTART:20260829T083000Z
DTEND:20260830T161500Z
LOCATION:YDSC Grimwith Reservoir
SUMMARY:RYA Powerboat Level 2 Course
DESCRIPTION:RYA Powerboat Level 2 Course\nhttps://yorkshiredales.sc/events/
 rya-powerboat-level-2-course-32/
URL:https://yorkshiredales.sc/events/rya-powerboat-level-2-course-32/
END:VEVENT
END:VCALENDAR