BEGIN:VCALENDAR
VERSION:2.0
PRODID:-//eventon.com NONSGML v1.0//EN
CALSCALE:GREGORIAN
METHOD:PUBLISH
BEGIN:VEVENT
UID:69e8dcd58f611
DTSTAMP:20260422T143605Z
DTSTART:20260929T083000Z
DTEND:20260930T161500Z
LOCATION:YDSC Grimwith Reservoir
SUMMARY:RYA Powerboat Level 2 Course
DESCRIPTION:RYA Powerboat Level 2 Course\nhttps://yorkshiredales.sc/events/
 rya-powerboat-level-2-course-33/
URL:https://yorkshiredales.sc/events/rya-powerboat-level-2-course-33/
END:VEVENT
END:VCALENDAR