BEGIN:VCALENDAR
VERSION:2.0
PRODID:-//eventon.com NONSGML v1.0//EN
CALSCALE:GREGORIAN
METHOD:PUBLISH
BEGIN:VEVENT
UID:69e8dd18d602d
DTSTAMP:20260422T143712Z
DTSTART:20261024T083000Z
DTEND:20261025T171500Z
LOCATION:YDSC Grimwith Reservoir
SUMMARY:RYA Powerboat Level 2 Course
DESCRIPTION:RYA Powerboat Level 2 Course\nhttps://yorkshiredales.sc/events/
 rya-powerboat-level-2-course-34/
URL:https://yorkshiredales.sc/events/rya-powerboat-level-2-course-34/
END:VEVENT
END:VCALENDAR