BEGIN:VCALENDAR
VERSION:2.0
PRODID:-//eventon.com NONSGML v1.0//EN
CALSCALE:GREGORIAN
METHOD:PUBLISH
BEGIN:VEVENT
UID:69e8dd1e93cd4
DTSTAMP:20260422T143718Z
DTSTART:20260808T083000Z
DTEND:20260809T161500Z
LOCATION:YDSC Grimwith Reservoir
SUMMARY:RYA Safetyboat Course
DESCRIPTION:RYA Safetyboat Course\nhttps://yorkshiredales.sc/events/rya-saf
 etyboat-course-6/
URL:https://yorkshiredales.sc/events/rya-safetyboat-course-6/
END:VEVENT
END:VCALENDAR