BEGIN:VCALENDAR
VERSION:2.0
PRODID:-//eventon.com NONSGML v1.0//EN
CALSCALE:GREGORIAN
METHOD:PUBLISH
BEGIN:VEVENT
UID:69e8dcd70a2b9
DTSTAMP:20260422T143607Z
DTSTART:20260822T083000Z
DTEND:20260823T161500Z
LOCATION:YDSC Grimwith Reservoir
SUMMARY:RYA Sailing with Spinnakers Course
DESCRIPTION:RYA Sailing with Spinnakers Course\nhttps://yorkshiredales.sc/e
 vents/rya-sailing-with-spinnakers-course-3/
URL:https://yorkshiredales.sc/events/rya-sailing-with-spinnakers-course-3/
END:VEVENT
END:VCALENDAR