BEGIN:VCALENDAR
VERSION:2.0
PRODID:-//eventon.com NONSGML v1.0//EN
CALSCALE:GREGORIAN
METHOD:PUBLISH
BEGIN:VEVENT
UID:69e8dd1913b09
DTSTAMP:20260422T143713Z
DTSTART:20260801T083000Z
DTEND:20260802T161500Z
LOCATION:YDSC Grimwith Reservoir
SUMMARY:RYA Start Racing Course
DESCRIPTION:RYA Start Racing Course\nhttps://yorkshiredales.sc/events/rya-s
 tart-racing-course-2/
URL:https://yorkshiredales.sc/events/rya-start-racing-course-2/
END:VEVENT
END:VCALENDAR