BEGIN:VCALENDAR
VERSION:2.0
PRODID:-//eventon.com NONSGML v1.0//EN
CALSCALE:GREGORIAN
METHOD:PUBLISH
BEGIN:VEVENT
UID:69e8dd1771bd4
DTSTAMP:20260422T143711Z
DTSTART:20260825T090000Z
DTEND:20260827T150000Z
LOCATION:YDSC Grimwith Reservoir
SUMMARY:RYA Young Sailors Hoilday Course 2
DESCRIPTION:3 day holiday course for beginner and improver youth sailors ag
 ed 10 -14\,  leading to RYA Stage Certificates\nhttps://yorkshiredales.sc/e
 vents/rya-young-sailors-hoilday-course-2-2/
URL:https://yorkshiredales.sc/events/rya-young-sailors-hoilday-course-2-2/
END:VEVENT
END:VCALENDAR