BEGIN:VCALENDAR
VERSION:2.0
PRODID:-//eventon.com NONSGML v1.0//EN
CALSCALE:GREGORIAN
METHOD:PUBLISH
BEGIN:VEVENT
UID:69e8dd1937041
DTSTAMP:20260422T143713Z
DTSTART:20261010
DTEND:20261011
LOCATION:YDSC Grimwith Reservoir
SUMMARY:RYA Regional RYA Instructors 'End of Season Blast'
DESCRIPTION:RYA Regional RYA Instructors 'End of Season Blast'\nhttps://yor
 kshiredales.sc/events/rya-regional-rya-instructors-end-of-season-blast/
URL:https://yorkshiredales.sc/events/rya-regional-rya-instructors-end-of-season-blast/
END:VEVENT
END:VCALENDAR