BEGIN:VCALENDAR
VERSION:2.0
PRODID:-//eventon.com NONSGML v1.0//EN
CALSCALE:GREGORIAN
METHOD:PUBLISH
BEGIN:VEVENT
UID:69e8dc7320d75
DTSTAMP:20260422T143427Z
DTSTART:20260530T090000Z
DTEND:20260530T160000Z
LOCATION:YDSC Grimwith Reservoir
SUMMARY:Recreational Watersports
DESCRIPTION:Club open for recreational sailing with safetyboat cover\nhttps
 ://yorkshiredales.sc/events/recreational-watersports-542/
URL:https://yorkshiredales.sc/events/recreational-watersports-542/
END:VEVENT
END:VCALENDAR