BEGIN:VCALENDAR
VERSION:2.0
PRODID:-//eventon.com NONSGML v1.0//EN
CALSCALE:GREGORIAN
METHOD:PUBLISH
BEGIN:VEVENT
UID:69e8dd1de1c8d
DTSTAMP:20260422T143717Z
DTSTART:20260718T090000Z
DTEND:20260718T160000Z
LOCATION:YDSC Grimwith Reservoir
SUMMARY:Recreational Watersports
DESCRIPTION:Club open for recreational sailing with safetyboat cover\nhttps
 ://yorkshiredales.sc/events/recreational-watersports-549/
URL:https://yorkshiredales.sc/events/recreational-watersports-549/
END:VEVENT
END:VCALENDAR