BEGIN:VCALENDAR
VERSION:2.0
PRODID:-//eventon.com NONSGML v1.0//EN
CALSCALE:GREGORIAN
METHOD:PUBLISH
BEGIN:VEVENT
UID:69e8dd1f3c69e
DTSTAMP:20260422T143719Z
DTSTART:20260801T090000Z
DTEND:20260801T160000Z
LOCATION:YDSC Grimwith Reservoir
SUMMARY:Recreational Watersports
DESCRIPTION:Club open for recreational sailing with safetyboat cover\nhttps
 ://yorkshiredales.sc/events/recreational-watersports-551/
URL:https://yorkshiredales.sc/events/recreational-watersports-551/
END:VEVENT
END:VCALENDAR