BEGIN:VCALENDAR
VERSION:2.0
PRODID:-//eventon.com NONSGML v1.0//EN
CALSCALE:GREGORIAN
METHOD:PUBLISH
BEGIN:VEVENT
UID:69e8dcd5d1e4a
DTSTAMP:20260422T143605Z
DTSTART:20260815T090000Z
DTEND:20260815T160000Z
LOCATION:YDSC Grimwith Reservoir
SUMMARY:Recreational Watersports
DESCRIPTION:Club open for recreational sailing with safetyboat cover\nhttps
 ://yorkshiredales.sc/events/recreational-watersports-553/
URL:https://yorkshiredales.sc/events/recreational-watersports-553/
END:VEVENT
END:VCALENDAR