BEGIN:VCALENDAR
VERSION:2.0
PRODID:-//eventon.com NONSGML v1.0//EN
CALSCALE:GREGORIAN
METHOD:PUBLISH
BEGIN:VEVENT
UID:69e8dc71f2c49
DTSTAMP:20260422T143425Z
DTSTART:20260822T090000Z
DTEND:20260822T160000Z
LOCATION:YDSC Grimwith Reservoir
SUMMARY:Recreational Watersports
DESCRIPTION:Club open for recreational sailing with safetyboat cover\nhttps
 ://yorkshiredales.sc/events/recreational-watersports-554/
URL:https://yorkshiredales.sc/events/recreational-watersports-554/
END:VEVENT
END:VCALENDAR