BEGIN:VCALENDAR
VERSION:2.0
PRODID:-//eventon.com NONSGML v1.0//EN
CALSCALE:GREGORIAN
METHOD:PUBLISH
BEGIN:VEVENT
UID:69e8dd2c9a47e
DTSTAMP:20260422T143732Z
DTSTART:20260912T090000Z
DTEND:20260912T160000Z
LOCATION:YDSC Grimwith Reservoir
SUMMARY:Recreational Watersports
DESCRIPTION:Club open for recreational sailing with safetyboat cover\nhttps
 ://yorkshiredales.sc/events/recreational-watersports-557/
URL:https://yorkshiredales.sc/events/recreational-watersports-557/
END:VEVENT
END:VCALENDAR