BEGIN:VCALENDAR
VERSION:2.0
PRODID:-//eventon.com NONSGML v1.0//EN
CALSCALE:GREGORIAN
METHOD:PUBLISH
BEGIN:VEVENT
UID:69e8dc748659c
DTSTAMP:20260422T143428Z
DTSTART:20261017T090000Z
DTEND:20261017T160000Z
LOCATION:YDSC Grimwith Reservoir
SUMMARY:Recreational Watersports
DESCRIPTION:Club open for recreational sailing with safetyboat cover\nhttps
 ://yorkshiredales.sc/events/recreational-watersports-562/
URL:https://yorkshiredales.sc/events/recreational-watersports-562/
END:VEVENT
END:VCALENDAR