BEGIN:VCALENDAR
VERSION:2.0
PRODID:-//eventon.com NONSGML v1.0//EN
CALSCALE:GREGORIAN
METHOD:PUBLISH
BEGIN:VEVENT
UID:69e8dc73d0a87
DTSTAMP:20260422T143427Z
DTSTART:20260426T090000Z
DTEND:20260426T160000Z
LOCATION:YDSC Grimwith Reservoir
SUMMARY:Recreational Watersports
DESCRIPTION:Club open for recreational sailing with safetyboat cover\nhttps
 ://yorkshiredales.sc/events/recreational-watersports-568/
URL:https://yorkshiredales.sc/events/recreational-watersports-568/
END:VEVENT
END:VCALENDAR