BEGIN:VCALENDAR
VERSION:2.0
PRODID:-//eventon.com NONSGML v1.0//EN
CALSCALE:GREGORIAN
METHOD:PUBLISH
BEGIN:VEVENT
UID:69e8dccef31fd
DTSTAMP:20260422T143558Z
DTSTART:20260607T090000Z
DTEND:20260607T160000Z
LOCATION:YDSC Grimwith Reservoir
SUMMARY:Recreational Watersports
DESCRIPTION:Club open for recreational sailing with safetyboat cover\nhttps
 ://yorkshiredales.sc/events/recreational-watersports-574/
URL:https://yorkshiredales.sc/events/recreational-watersports-574/
END:VEVENT
END:VCALENDAR