BEGIN:VCALENDAR
VERSION:2.0
PRODID:-//eventon.com NONSGML v1.0//EN
CALSCALE:GREGORIAN
METHOD:PUBLISH
BEGIN:VEVENT
UID:69e8dd6e2ee74
DTSTAMP:20260422T143838Z
DTSTART:20260621T090000Z
DTEND:20260621T160000Z
LOCATION:YDSC Grimwith Reservoir
SUMMARY:Recreational Watersports
DESCRIPTION:Club open for recreational sailing with safetyboat cover\nhttps
 ://yorkshiredales.sc/events/recreational-watersports-576/
URL:https://yorkshiredales.sc/events/recreational-watersports-576/
END:VEVENT
END:VCALENDAR