BEGIN:VCALENDAR
VERSION:2.0
PRODID:-//eventon.com NONSGML v1.0//EN
CALSCALE:GREGORIAN
METHOD:PUBLISH
BEGIN:VEVENT
UID:69e8dcac9fa5d
DTSTAMP:20260422T143524Z
DTSTART:20260802T090000Z
DTEND:20260802T160000Z
LOCATION:YDSC Grimwith Reservoir
SUMMARY:Recreational Watersports
DESCRIPTION:Club open for recreational sailing with safetyboat cover\nhttps
 ://yorkshiredales.sc/events/recreational-watersports-582/
URL:https://yorkshiredales.sc/events/recreational-watersports-582/
END:VEVENT
END:VCALENDAR