BEGIN:VCALENDAR
VERSION:2.0
PRODID:-//eventon.com NONSGML v1.0//EN
CALSCALE:GREGORIAN
METHOD:PUBLISH
BEGIN:VEVENT
UID:69e8dcac7d28a
DTSTAMP:20260422T143524Z
DTSTART:20260823T090000Z
DTEND:20260823T160000Z
LOCATION:YDSC Grimwith Reservoir
SUMMARY:Recreational Watersports
DESCRIPTION:Club open for recreational sailing with safetyboat cover\nhttps
 ://yorkshiredales.sc/events/recreational-watersports-585/
URL:https://yorkshiredales.sc/events/recreational-watersports-585/
END:VEVENT
END:VCALENDAR