BEGIN:VCALENDAR
VERSION:2.0
PRODID:-//eventon.com NONSGML v1.0//EN
CALSCALE:GREGORIAN
METHOD:PUBLISH
BEGIN:VEVENT
UID:69e8dca9e76ae
DTSTAMP:20260422T143521Z
DTSTART:20260830T090000Z
DTEND:20260830T160000Z
LOCATION:YDSC Grimwith Reservoir
SUMMARY:Recreational Watersports
DESCRIPTION:Club open for recreational sailing with safetyboat cover\nhttps
 ://yorkshiredales.sc/events/recreational-watersports-586/
URL:https://yorkshiredales.sc/events/recreational-watersports-586/
END:VEVENT
END:VCALENDAR