BEGIN:VCALENDAR
VERSION:2.0
PRODID:-//eventon.com NONSGML v1.0//EN
CALSCALE:GREGORIAN
METHOD:PUBLISH
BEGIN:VEVENT
UID:69e8dcd02a998
DTSTAMP:20260422T143600Z
DTSTART:20261018T090000Z
DTEND:20261018T160000Z
LOCATION:YDSC Grimwith Reservoir
SUMMARY:Recreational Watersports
DESCRIPTION:Club open for recreational sailing with safetyboat cover\nhttps
 ://yorkshiredales.sc/events/recreational-watersports-593/
URL:https://yorkshiredales.sc/events/recreational-watersports-593/
END:VEVENT
END:VCALENDAR