BEGIN:VCALENDAR
VERSION:2.0
PRODID:-//eventon.com NONSGML v1.0//EN
CALSCALE:GREGORIAN
METHOD:PUBLISH
BEGIN:VEVENT
UID:69e8dc6deb6d4
DTSTAMP:20260422T143421Z
DTSTART:20261115T100000Z
DTEND:20261115T160000Z
LOCATION:YDSC Grimwith Reservoir
SUMMARY:Recreational Watersports
DESCRIPTION:Club open for recreational sailing with safetyboat cover\nhttps
 ://yorkshiredales.sc/events/recreational-watersports-597/
URL:https://yorkshiredales.sc/events/recreational-watersports-597/
END:VEVENT
END:VCALENDAR