BEGIN:VCALENDAR
VERSION:2.0
PRODID:-//eventon.com NONSGML v1.0//EN
CALSCALE:GREGORIAN
METHOD:PUBLISH
BEGIN:VEVENT
UID:69e8dcd4d7d36
DTSTAMP:20260422T143604Z
DTSTART:20261129T100000Z
DTEND:20261129T160000Z
LOCATION:YDSC Grimwith Reservoir
SUMMARY:Recreational Watersports
DESCRIPTION:Club open for recreational sailing with safetyboat cover\nhttps
 ://yorkshiredales.sc/events/recreational-watersports-599/
URL:https://yorkshiredales.sc/events/recreational-watersports-599/
END:VEVENT
END:VCALENDAR