BEGIN:VCALENDAR
VERSION:2.0
PRODID:-//eventon.com NONSGML v1.0//EN
CALSCALE:GREGORIAN
METHOD:PUBLISH
BEGIN:VEVENT
UID:69e8dc6eeb3e0
DTSTAMP:20260422T143422Z
DTSTART:20260422T163000Z
DTEND:20260422T193000Z
LOCATION:YDSC Grimwith Reservoir
SUMMARY:Recreational Watersports
DESCRIPTION:Club open for recreational sailing with safetyboat cover\nhttps
 ://yorkshiredales.sc/events/recreational-watersports-604/
URL:https://yorkshiredales.sc/events/recreational-watersports-604/
END:VEVENT
END:VCALENDAR