BEGIN:VCALENDAR
VERSION:2.0
PRODID:-//eventon.com NONSGML v1.0//EN
CALSCALE:GREGORIAN
METHOD:PUBLISH
BEGIN:VEVENT
UID:69e8dcab091dc
DTSTAMP:20260422T143523Z
DTSTART:20260603T163000Z
DTEND:20260603T193000Z
LOCATION:YDSC Grimwith Reservoir
SUMMARY:Recreational Watersports
DESCRIPTION:Club open for recreational sailing with safetyboat cover\nhttps
 ://yorkshiredales.sc/events/recreational-watersports-610/
URL:https://yorkshiredales.sc/events/recreational-watersports-610/
END:VEVENT
END:VCALENDAR