BEGIN:VCALENDAR
VERSION:2.0
PRODID:-//eventon.com NONSGML v1.0//EN
CALSCALE:GREGORIAN
METHOD:PUBLISH
BEGIN:VEVENT
UID:69e8dcc7ecce6
DTSTAMP:20260422T143551Z
DTSTART:20260617T163000Z
DTEND:20260617T193000Z
LOCATION:YDSC Grimwith Reservoir
SUMMARY:Recreational Watersports
DESCRIPTION:Club open for recreational sailing with safetyboat cover\nhttps
 ://yorkshiredales.sc/events/recreational-watersports-612/
URL:https://yorkshiredales.sc/events/recreational-watersports-612/
END:VEVENT
END:VCALENDAR