BEGIN:VCALENDAR
VERSION:2.0
PRODID:-//eventon.com NONSGML v1.0//EN
CALSCALE:GREGORIAN
METHOD:PUBLISH
BEGIN:VEVENT
UID:69e8dcac4aeba
DTSTAMP:20260422T143524Z
DTSTART:20260624T163000Z
DTEND:20260624T193000Z
LOCATION:YDSC Grimwith Reservoir
SUMMARY:Recreational Watersports
DESCRIPTION:Club open for recreational sailing with safetyboat cover\nhttps
 ://yorkshiredales.sc/events/recreational-watersports-613/
URL:https://yorkshiredales.sc/events/recreational-watersports-613/
END:VEVENT
END:VCALENDAR