BEGIN:VCALENDAR
VERSION:2.0
PRODID:-//eventon.com NONSGML v1.0//EN
CALSCALE:GREGORIAN
METHOD:PUBLISH
BEGIN:VEVENT
UID:69e8dcd014b0a
DTSTAMP:20260422T143600Z
DTSTART:20260805T163000Z
DTEND:20260805T193000Z
LOCATION:YDSC Grimwith Reservoir
SUMMARY:Recreational Watersports
DESCRIPTION:Club open for recreational sailing with safetyboat cover\nhttps
 ://yorkshiredales.sc/events/recreational-watersports-619/
URL:https://yorkshiredales.sc/events/recreational-watersports-619/
END:VEVENT
END:VCALENDAR