BEGIN:VCALENDAR
VERSION:2.0
PRODID:-//eventon.com NONSGML v1.0//EN
CALSCALE:GREGORIAN
METHOD:PUBLISH
BEGIN:VEVENT
UID:69e8dc6febfd8
DTSTAMP:20260422T143423Z
DTSTART:20260425T090000Z
DTEND:20260425T110000Z
LOCATION:YDSC Grimwith Reservoir
SUMMARY:Wingsurf Taster - Cancelled
DESCRIPTION:Wingsurf Taster - Cancelled\nhttps://yorkshiredales.sc/events/w
 ingsurf-taster/
URL:https://yorkshiredales.sc/events/wingsurf-taster/
END:VEVENT
END:VCALENDAR