BEGIN:VCALENDAR
VERSION:2.0
PRODID:-//eventon.com NONSGML v1.0//EN
CALSCALE:GREGORIAN
METHOD:PUBLISH
BEGIN:VEVENT
UID:69e8dcc9dccd0
DTSTAMP:20260422T143553Z
DTSTART:20260425T120000Z
DTEND:20260425T160000Z
LOCATION:YDSC Grimwith Reservoir
SUMMARY:RYA Improver Wingsurf Course - Cancelled
DESCRIPTION:RYA Improver Wingsurf Course - Cancelled\nhttps://yorkshiredale
 s.sc/events/rya-improver-wingsurf-course/
URL:https://yorkshiredales.sc/events/rya-improver-wingsurf-course/
END:VEVENT
END:VCALENDAR