BEGIN:VCALENDAR
VERSION:2.0
PRODID:-//eventon.com NONSGML v1.0//EN
CALSCALE:GREGORIAN
METHOD:PUBLISH
BEGIN:VEVENT
UID:69e8dcca16f40
DTSTAMP:20260422T143554Z
DTSTART:20260426T083000Z
DTEND:20260426T123000Z
LOCATION:YDSC Grimwith Reservoir
SUMMARY:RYA Wingfoil First Flights Course - Cancelled
DESCRIPTION:RYA Wingfoil First Flights Course - Cancelled\nhttps://yorkshir
 edales.sc/events/rya-wingfoil-first-flights-course/
URL:https://yorkshiredales.sc/events/rya-wingfoil-first-flights-course/
END:VEVENT
END:VCALENDAR