BEGIN:VCALENDAR
VERSION:2.0
PRODID:-//eventon.com NONSGML v1.0//EN
CALSCALE:GREGORIAN
METHOD:PUBLISH
BEGIN:VEVENT
UID:69e8dccf58684
DTSTAMP:20260422T143559Z
DTSTART:20260426T130000Z
DTEND:20260426T160000Z
LOCATION:YDSC Grimwith Reservoir
SUMMARY:Wingfoil Group Coaching - Cancelled
DESCRIPTION:Wingfoil Group Coaching - Cancelled\nhttps://yorkshiredales.sc/
 events/wingfoil-group-coaching/
URL:https://yorkshiredales.sc/events/wingfoil-group-coaching/
END:VEVENT
END:VCALENDAR