BEGIN:VCALENDAR
VERSION:2.0
PRODID:-//eventon.com NONSGML v1.0//EN
CALSCALE:GREGORIAN
METHOD:PUBLISH
BEGIN:VEVENT
UID:69e8dc6d4060e
DTSTAMP:20260422T143421Z
DTSTART:20260509T083000Z
DTEND:20260509T123000Z
LOCATION:YDSC Grimwith Reservoir
SUMMARY:RYA Learn to Wingsurf Course
DESCRIPTION:RYA Learn to Wingsurf Course\nhttps://yorkshiredales.sc/events/
 rya-learn-to-wingsurf-course-2/
URL:https://yorkshiredales.sc/events/rya-learn-to-wingsurf-course-2/
END:VEVENT
END:VCALENDAR