BEGIN:VCALENDAR
VERSION:2.0
PRODID:-//eventon.com NONSGML v1.0//EN
CALSCALE:GREGORIAN
METHOD:PUBLISH
BEGIN:VEVENT
UID:69e8dcc8498e9
DTSTAMP:20260422T143552Z
DTSTART:20260607T083000Z
DTEND:20260607T123000Z
LOCATION:YDSC Grimwith Reservoir
SUMMARY:RYA Wingfoil First Flights Course
DESCRIPTION:RYA Wingfoil First Flights Course\nhttps://yorkshiredales.sc/ev
 ents/rya-wingfoil-first-flights-course-2/
URL:https://yorkshiredales.sc/events/rya-wingfoil-first-flights-course-2/
END:VEVENT
END:VCALENDAR