BEGIN:VCALENDAR
VERSION:2.0
PRODID:-//eventon.com NONSGML v1.0//EN
CALSCALE:GREGORIAN
METHOD:PUBLISH
BEGIN:VEVENT
UID:69e8dcd662cc9
DTSTAMP:20260422T143606Z
DTSTART:20260607T130000Z
DTEND:20260607T160000Z
LOCATION:YDSC Grimwith Reservoir
SUMMARY:Wingfoil Group Coaching
DESCRIPTION:Wingfoil Group Coaching\nhttps://yorkshiredales.sc/events/wingf
 oil-group-coaching-2/
URL:https://yorkshiredales.sc/events/wingfoil-group-coaching-2/
END:VEVENT
END:VCALENDAR