BEGIN:VCALENDAR
VERSION:2.0
PRODID:-//eventon.com NONSGML v1.0//EN
CALSCALE:GREGORIAN
METHOD:PUBLISH
BEGIN:VEVENT
UID:69e8dcab66f32
DTSTAMP:20260422T143523Z
DTSTART:20260613T090000Z
DTEND:20260613T110000Z
LOCATION:YDSC Grimwith Reservoir
SUMMARY:Wingsurf Taster
DESCRIPTION:Wingsurf Taster\nhttps://yorkshiredales.sc/events/wingsurf-tast
 er-2/
URL:https://yorkshiredales.sc/events/wingsurf-taster-2/
END:VEVENT
END:VCALENDAR