BEGIN:VCALENDAR
VERSION:2.0
PRODID:-//eventon.com NONSGML v1.0//EN
CALSCALE:GREGORIAN
METHOD:PUBLISH
BEGIN:VEVENT
UID:69e8dcc9c4ec8
DTSTAMP:20260422T143553Z
DTSTART:20260613T120000Z
DTEND:20260613T160000Z
LOCATION:YDSC Grimwith Reservoir
SUMMARY:RYA Improver Wingsurf Course
DESCRIPTION:RYA Improver Wingsurf Course\nhttps://yorkshiredales.sc/events/
 rya-improver-wingsurf-course-2/
URL:https://yorkshiredales.sc/events/rya-improver-wingsurf-course-2/
END:VEVENT
END:VCALENDAR