BEGIN:VCALENDAR
VERSION:2.0
PRODID:-//eventon.com NONSGML v1.0//EN
CALSCALE:GREGORIAN
METHOD:PUBLISH
BEGIN:VEVENT
UID:69e8dcd6a5220
DTSTAMP:20260422T143606Z
DTSTART:20260628T090000Z
DTEND:20260628T154500Z
LOCATION:YDSC Grimwith Reservoir
SUMMARY:Wingsurf Taster
DESCRIPTION:Wingsurf Taster\nhttps://yorkshiredales.sc/events/wingsurf-tast
 er-3/
URL:https://yorkshiredales.sc/events/wingsurf-taster-3/
END:VEVENT
END:VCALENDAR