BEGIN:VCALENDAR
VERSION:2.0
PRODID:-//eventon.com NONSGML v1.0//EN
CALSCALE:GREGORIAN
METHOD:PUBLISH
BEGIN:VEVENT
UID:69e8dccea1087
DTSTAMP:20260422T143558Z
DTSTART:20260718T083000Z
DTEND:20260718T123000Z
LOCATION:YDSC Grimwith Reservoir
SUMMARY:RYA Learn to Wingsurf Course
DESCRIPTION:RYA Learn to Wingsurf Course\nhttps://yorkshiredales.sc/events/
 rya-learn-to-wingsurf-course-3/
URL:https://yorkshiredales.sc/events/rya-learn-to-wingsurf-course-3/
END:VEVENT
END:VCALENDAR