BEGIN:VCALENDAR
VERSION:2.0
PRODID:-//eventon.com NONSGML v1.0//EN
CALSCALE:GREGORIAN
METHOD:PUBLISH
BEGIN:VEVENT
UID:69e8dcc8828de
DTSTAMP:20260422T143552Z
DTSTART:20260912T083000Z
DTEND:20260912T123000Z
LOCATION:YDSC Grimwith Reservoir
SUMMARY:RYA Learn to Wingsurf Course
DESCRIPTION:RYA Learn to Wingsurf Course\nhttps://yorkshiredales.sc/events/
 rya-learn-to-wingsurf-course-4/
URL:https://yorkshiredales.sc/events/rya-learn-to-wingsurf-course-4/
END:VEVENT
END:VCALENDAR