BEGIN:VCALENDAR
VERSION:2.0
PRODID:-//eventon.com NONSGML v1.0//EN
CALSCALE:GREGORIAN
METHOD:PUBLISH
BEGIN:VEVENT
UID:69e8dcd722aa0
DTSTAMP:20260422T143607Z
DTSTART:20260912T130000Z
DTEND:20260912T170000Z
LOCATION:YDSC Grimwith Reservoir
SUMMARY:RYA Improver Wingsurf Course
DESCRIPTION:RYA Improver Wingsurf Course\nhttps://yorkshiredales.sc/events/
 rya-improver-wingsurf-course-4/
URL:https://yorkshiredales.sc/events/rya-improver-wingsurf-course-4/
END:VEVENT
END:VCALENDAR