BEGIN:VCALENDAR
VERSION:2.0
PRODID:-//eventon.com NONSGML v1.0//EN
CALSCALE:GREGORIAN
METHOD:PUBLISH
BEGIN:VEVENT
UID:69e8dcacd0cf8
DTSTAMP:20260422T143524Z
DTSTART:20260509T130000Z
DTEND:20260509T160000Z
LOCATION:YDSC Grimwith Reservoir
SUMMARY:Windsurf Advanced Group Coaching
DESCRIPTION:Windsurf Advanced Group Coaching\nhttps://yorkshiredales.sc/eve
 nts/windsurf-advanced-group-coaching-2/
URL:https://yorkshiredales.sc/events/windsurf-advanced-group-coaching-2/
END:VEVENT
END:VCALENDAR